BEGIN:VCALENDAR
VERSION:2.0
PRODID:-//Discover Hubbard Texas - ECPv6.15.20//NONSGML v1.0//EN
CALSCALE:GREGORIAN
METHOD:PUBLISH
X-WR-CALNAME:Discover Hubbard Texas
X-ORIGINAL-URL:https://discoverhubbardtexas.org
X-WR-CALDESC:Events for Discover Hubbard Texas
REFRESH-INTERVAL;VALUE=DURATION:PT1H
X-Robots-Tag:noindex
X-PUBLISHED-TTL:PT1H
BEGIN:VTIMEZONE
TZID:America/Chicago
BEGIN:DAYLIGHT
TZOFFSETFROM:-0600
TZOFFSETTO:-0500
TZNAME:CDT
DTSTART:20250309T080000
END:DAYLIGHT
BEGIN:STANDARD
TZOFFSETFROM:-0500
TZOFFSETTO:-0600
TZNAME:CST
DTSTART:20251102T070000
END:STANDARD
BEGIN:DAYLIGHT
TZOFFSETFROM:-0600
TZOFFSETTO:-0500
TZNAME:CDT
DTSTART:20260308T080000
END:DAYLIGHT
BEGIN:STANDARD
TZOFFSETFROM:-0500
TZOFFSETTO:-0600
TZNAME:CST
DTSTART:20261101T070000
END:STANDARD
BEGIN:DAYLIGHT
TZOFFSETFROM:-0600
TZOFFSETTO:-0500
TZNAME:CDT
DTSTART:20270314T080000
END:DAYLIGHT
BEGIN:STANDARD
TZOFFSETFROM:-0500
TZOFFSETTO:-0600
TZNAME:CST
DTSTART:20271107T070000
END:STANDARD
END:VTIMEZONE
BEGIN:VEVENT
DTSTART;TZID=America/Chicago:20260325T080000
DTEND;TZID=America/Chicago:20260328T120000
DTSTAMP:20260421T174348
CREATED:20260326T001138Z
LAST-MODIFIED:20260326T001138Z
UID:579-1774425600-1774699200@discoverhubbardtexas.org
SUMMARY:HUBBARD CITY WIDE CLEAN UP DAY!
DESCRIPTION:🌿🐄 HUBBARD CITY-WIDE CLEAN UP – MARCH 28TH! 🐄🌿\nThis is what we do. 💙\nWhen you come out to clean up your property and help keep Hubbard beautiful\, there’s a team of volunteers working hard at the containers—helping unload\, organize\, and keep things moving.\n👉 And the Chamber is there to support THEM.\nThe Greater Hubbard Chamber of Commerce will be providing food and drinks for the volunteers who are helping unload and serve our community:\n🍔 Sandwiches\n🍪 Cookies\n🥨 Chips\n💧 Water & drinks\nBecause while you’re doing your part… they’re doing theirs—and we believe in taking care of those who serve.\nWe are 100% volunteer-run\, and everything we do goes right back into supporting our community.\n✨ So bring your clean-up items\, take pride in your town\, and know that together—we’re making Hubbard a better place to live.
URL:https://discoverhubbardtexas.org/event/event-cleanup/
LOCATION:City of Hubbard\, 118 North Magnolia Avenue\, Hubbard\, TX\, 76648\, United States
END:VEVENT
BEGIN:VEVENT
DTSTART;TZID=America/Chicago:20260404T120000
DTEND;TZID=America/Chicago:20260404T150000
DTSTAMP:20260421T174348
CREATED:20260326T032121Z
LAST-MODIFIED:20260326T032121Z
UID:923-1775304000-1775314800@discoverhubbardtexas.org
SUMMARY:Unity in Our Community Outreach – Hubbard\, Texas
DESCRIPTION:🌟 Unity in Our Community Outreach – Hubbard\, Texas 🌟 \nJoin us on April 4th from 12:00 PM – 3:00 PM at the Hubbard Food Truck Park (106 NE 3rd Street) for a special time together! \nThis is a FREE event for all ages filled with:\n🙏 Prayer\n🎤 Testimonies\n🍽️ Food\n🎶 Worship & Music\n🤝 Fellowship\n🎉 Games and more! \nHosted by local ministries including Kingdom Kids\, OG Ministry\, Safe Harbor Church\, Macedonia Baptist Church\, Reach Across Hubbard\, Hubbard Recovered and Free (RAF)\, and others. \nCome as you are and be part of something meaningful in our community ❤️ \n📞 For more information or booth reservations\, contact John Johnson at 254-205-1451
URL:https://discoverhubbardtexas.org/event/unity-in-our-community-outreach-hubbard-texas/
END:VEVENT
END:VCALENDAR